BEGIN:VCALENDAR
VERSION:2.0
PRODID:-//AMS//NONSGML v1.0//EN
BEGIN:VEVENT
DTSTAMP:20240212T000000
DTSTART:20240719T000000
DTEND:20240723T000000
SUMMARY:2024 SIAM Annual Meeting
DESCRIPTION:2024 SIAM Annual Meeting http://www.siam.org/conferences/cm/conference/an24
END:VEVENT
END:VCALENDAR
