BEGIN:VCALENDAR
VERSION:2.0
PRODID:-//AMS//NONSGML v1.0//EN
BEGIN:VEVENT
DTSTAMP:20240212T000000
DTSTART:20240323T000000
DTEND:20240324T000000
SUMMARY:2024 AMS Spring Southeastern Sectional Meeting, Tallahassee, FL
DESCRIPTION:2024 AMS Spring Southeastern Sectional Meeting, Tallahassee, FL http://www.ams.org/meetings/sectional/2313_program.html
END:VEVENT
END:VCALENDAR
