BEGIN:VCALENDAR
VERSION:2.0
PRODID:-//AMS//NONSGML v1.0//EN
BEGIN:VEVENT
DTSTAMP:20240212T000000
DTSTART:20240406T000000
DTEND:20240407T000000
SUMMARY:2024 AMS Spring Eastern Sectional Meeting, Washington, DC
DESCRIPTION:2024 AMS Spring Eastern Sectional Meeting, Washington, DC http://www.ams.org/meetings/sectional/2312_program.html
END:VEVENT
END:VCALENDAR
