BEGIN:VCALENDAR
VERSION:2.0
PRODID:-//AMS//NONSGML v1.0//EN
BEGIN:VEVENT
DTSTAMP:20240212T000000
DTSTART:20240504T000000
DTEND:20240505T000000
SUMMARY:2024 AMS Spring Western Sectional Meeting, San Francisco, CA
DESCRIPTION:2024 AMS Spring Western Sectional Meeting, San Francisco, CA http://www.ams.org/meetings/sectional/2299_program.html
END:VEVENT
END:VCALENDAR
