BEGIN:VCALENDAR
VERSION:2.0
PRODID:-//AMS//NONSGML v1.0//EN
BEGIN:VEVENT
DTSTAMP:20240212T000000
DTSTART:20240415T000000
DTEND:20240629T000000
SUMMARY:CRM Thematic Semester on "Geometric Analysis"
DESCRIPTION:CRM Thematic Semester on "Geometric Analysis" http://www.crmath.ca/en/activities/#/type/activity/id/3880
END:VEVENT
END:VCALENDAR
