BEGIN:VCALENDAR
VERSION:2.0
PRODID:-//AMS//NONSGML v1.0//EN
BEGIN:VEVENT
DTSTAMP:20240212T000000
DTSTART:20240311T000000
DTEND:20240614T000000
SUMMARY:Geometry, Statistical Mechanics, and Integrability
DESCRIPTION:Geometry, Statistical Mechanics, and Integrability http://www.ipam.ucla.edu/programs/long-programs/geometry-statistical-mechanics- and-integrability/
END:VEVENT
END:VCALENDAR
