BEGIN:VCALENDAR
VERSION:2.0
PRODID:-//AMS//NONSGML v1.0//EN
BEGIN:VEVENT
DTSTAMP:20240212T000000
DTSTART:20240506T000000
DTEND:20240510T000000
SUMMARY:Workshop III: Statistical Mechanics Beyond 2D
DESCRIPTION:Workshop III: Statistical Mechanics Beyond 2D http://www.ipam.ucla.edu/programs/workshops/workshop-iii-statistical-mechanics- beyond-2d/
END:VEVENT
END:VCALENDAR
