BEGIN:VCALENDAR
VERSION:2.0
PRODID:-//AMS//NONSGML v1.0//EN
BEGIN:VEVENT
DTSTAMP:20240212T000000
DTSTART:20240325T000000
DTEND:20240329T000000
SUMMARY:Workshop I: Statistical Mechanics and Discrete Geometry
DESCRIPTION:Workshop I: Statistical Mechanics and Discrete Geometry http://www.ipam.ucla.edu/programs/workshops/workshop-i-statistical-mechanics-a nd-discrete-geometry/
END:VEVENT
END:VCALENDAR
