BEGIN:VCALENDAR
VERSION:2.0
PRODID:-//AMS//NONSGML v1.0//EN
BEGIN:VEVENT
DTSTAMP:20240212T000000
DTSTART:20240415T000000
DTEND:20240419T000000
SUMMARY:Workshop II: Integrability and Algebraic Combinatorics
DESCRIPTION:Workshop II: Integrability and Algebraic Combinatorics http://www.ipam.ucla.edu/programs/workshops/workshop-ii-integrability-and-alge braic-combinatorics/
END:VEVENT
END:VCALENDAR
