BEGIN:VCALENDAR
VERSION:2.0
PRODID:-//AMS//NONSGML v1.0//EN
BEGIN:VEVENT
DTSTAMP:20240212T000000
DTSTART:20240318T000000
DTEND:20240322T000000
SUMMARY:AIM Workshop: Degree d points on algebraic surfaces
DESCRIPTION:AIM Workshop: Degree d points on algebraic surfaces http://aimath.org/workshops/upcoming/degreedsurface/
END:VEVENT
END:VCALENDAR
