BEGIN:VCALENDAR
VERSION:2.0
PRODID:-//AMS//NONSGML v1.0//EN
BEGIN:VEVENT
DTSTAMP:20240205T000000
DTSTART:20240201T000000
DTEND:20240202T000000
SUMMARY:Connections Workshop: Noncommutative Algebraic Geometry
DESCRIPTION:Connections Workshop: Noncommutative Algebraic Geometry http://www.msri.org/workshops/1054
END:VEVENT
END:VCALENDAR
