BEGIN:VCALENDAR
VERSION:2.0
PRODID:-//AMS//NONSGML v1.0//EN
BEGIN:VEVENT
DTSTAMP:20240212T000000
DTSTART:20240205T000000
DTEND:20240209T000000
SUMMARY:Introductory Workshop: Noncommutative Algebraic Geometry
DESCRIPTION:Introductory Workshop: Noncommutative Algebraic Geometry http://www.msri.org/workshops/1055
END:VEVENT
END:VCALENDAR
