BEGIN:VCALENDAR
VERSION:2.0
PRODID:-//AMS//NONSGML v1.0//EN
BEGIN:VEVENT
DTSTAMP:20240212T000000
DTSTART:20240311T000000
DTEND:20240315T000000
SUMMARY:Hot Topics: "Artin Groups and Arrangements: Topology, Geometry, and Combinatorics"
DESCRIPTION:Hot Topics: "Artin Groups and Arrangements: Topology, Geometry, and Combinatorics" http://www.msri.org/workshops/1047
END:VEVENT
END:VCALENDAR
