BEGIN:VCALENDAR
VERSION:2.0
PRODID:-//AMS//NONSGML v1.0//EN
BEGIN:VEVENT
DTSTAMP:20240212T000000
DTSTART:20240408T000000
DTEND:20240412T000000
SUMMARY:Recent Developments in Noncommutative Algebraic Geometry
DESCRIPTION:Recent Developments in Noncommutative Algebraic Geometry http://www.msri.org/workshops/1075
END:VEVENT
END:VCALENDAR
