BEGIN:VCALENDAR
VERSION:2.0
PRODID:-//AMS//NONSGML v1.0//EN
BEGIN:VEVENT
DTSTAMP:20240212T000000
DTSTART:20240415T000000
DTEND:20240419T000000
SUMMARY:Recent Developments in Commutative Algebra
DESCRIPTION:Recent Developments in Commutative Algebra http://www.msri.org/workshops/1060
END:VEVENT
END:VCALENDAR
