BEGIN:VCALENDAR
VERSION:2.0
PRODID:-//AMS//NONSGML v1.0//EN
BEGIN:VEVENT
DTSTAMP:20240212T000000
DTSTART:20240501T000000
DTEND:20240503T000000
SUMMARY:Advances in Lie Theory, Representation Theory and Combinatorics: Inspired by the work of Georgia M. Benkart
DESCRIPTION:Advances in Lie Theory, Representation Theory and Combinatorics: Inspired by the work of Georgia M. Benkart http://www.msri.org/workshops/1065
END:VEVENT
END:VCALENDAR
