BEGIN:VCALENDAR
VERSION:2.0
PRODID:-//AMS//NONSGML v1.0//EN
BEGIN:VEVENT
DTSTAMP:20240212T000000
DTSTART:20240304T000000
DTEND:20240309T000000
SUMMARY:XIV Brazilian Workshop on Continuous Optimization
DESCRIPTION:XIV Brazilian Workshop on Continuous Optimization http://
END:VEVENT
END:VCALENDAR
