BEGIN:VCALENDAR
VERSION:2.0
PRODID:-//AMS//NONSGML v1.0//EN
BEGIN:VEVENT
DTSTAMP:20240212T000000
DTSTART:20240708T000000
DTEND:20240709T000000
SUMMARY:SIAM Conference on Applied Mathematics Education (ED24)
DESCRIPTION:SIAM Conference on Applied Mathematics Education (ED24) http://www.siam.org/conferences/cm/conference/ed24
END:VEVENT
END:VCALENDAR
