BEGIN:VCALENDAR
VERSION:2.0
PRODID:-//AMS//NONSGML v1.0//EN
BEGIN:VEVENT
DTSTAMP:20240212T000000
DTSTART:20240715T000000
DTEND:20240719T000000
SUMMARY:Moving to higher rank: from hyperbolic to Anosov
DESCRIPTION:Moving to higher rank: from hyperbolic to Anosov http://sites.google.com/wesleyan.edu/canaryfest-6-2/home
END:VEVENT
END:VCALENDAR
