BEGIN:VCALENDAR
VERSION:2.0
PRODID:-//AMS//NONSGML v1.0//EN
BEGIN:VEVENT
DTSTAMP:20240212T000000
DTSTART:20240415T000000
DTEND:20240419T000000
SUMMARY:AIM Workshop: Higher-dimensional contact topology
DESCRIPTION:AIM Workshop: Higher-dimensional contact topology http://aimath.org/workshops/upcoming/highdimcontacttop/
END:VEVENT
END:VCALENDAR
