BEGIN:VCALENDAR
VERSION:2.0
PRODID:-//AMS//NONSGML v1.0//EN
BEGIN:VEVENT
DTSTAMP:20240212T000000
DTSTART:20240616T000000
DTEND:20240622T000000
SUMMARY:BIOMATH 2024: International conference on Mathematical Methods and Models in Biosciences
DESCRIPTION:BIOMATH 2024: International conference on Mathematical Methods and Models in Biosciences http://biomath.bg/2024
END:VEVENT
END:VCALENDAR
