BEGIN:VCALENDAR
VERSION:2.0
PRODID:-//AMS//NONSGML v1.0//EN
BEGIN:VEVENT
DTSTAMP:20240212T000000
DTSTART:20240527T000000
DTEND:20240531T000000
SUMMARY:Representation Theory and Related Geometry: Progress and Prospects (On the occasion of Daniel K. Nakano's 60th birthday)
DESCRIPTION:Representation Theory and Related Geometry: Progress and Prospects (On the occasion of Daniel K. Nakano's 60th birthday) http://sites.google.com/view/representation-theory-geometry
END:VEVENT
END:VCALENDAR
