BEGIN:VCALENDAR
VERSION:2.0
PRODID:-//AMS//NONSGML v1.0//EN
BEGIN:VEVENT
DTSTAMP:20240212T000000
DTSTART:20240212T000000
DTEND:20240216T000000
SUMMARY:Mathematical Approaches for Connectome Analysis
DESCRIPTION:Mathematical Approaches for Connectome Analysis http://www.ipam.ucla.edu/programs/workshops/mathematical-approaches-for-connec tome-analysis/
END:VEVENT
END:VCALENDAR
