BEGIN:VCALENDAR
VERSION:2.0
PRODID:-//AMS//NONSGML v1.0//EN
BEGIN:VEVENT
DTSTAMP:20240212T000000
DTSTART:20240528T000000
DTEND:20240531T000000
SUMMARY:SIAM Conference on Imaging Science (IS24)
DESCRIPTION:SIAM Conference on Imaging Science (IS24) http://www.siam.org/conferences/cm/conference/is24
END:VEVENT
END:VCALENDAR
