BEGIN:VCALENDAR
VERSION:2.0
PRODID:-//AMS//NONSGML v1.0//EN
BEGIN:VEVENT
DTSTAMP:20240212T000000
DTSTART:20240624T000000
DTEND:20240627T000000
SUMMARY:SIAM Conference on Nonlinear Waves and Coherent Structures (NWCS24)
DESCRIPTION:SIAM Conference on Nonlinear Waves and Coherent Structures (NWCS24) http://www.siam.org/conferences/cm/conference/nwcs24
END:VEVENT
END:VCALENDAR
