BEGIN:VCALENDAR
VERSION:2.0
PRODID:-//AMS//NONSGML v1.0//EN
BEGIN:VEVENT
DTSTAMP:20240212T000000
DTSTART:20240610T000000
DTEND:20240613T000000
SUMMARY:SIAM Conference on the Life Sciences (LS24)
DESCRIPTION:SIAM Conference on the Life Sciences (LS24) http://www.siam.org/conferences/cm/conference/ls24
END:VEVENT
END:VCALENDAR
