BEGIN:VCALENDAR
VERSION:2.0
PRODID:-//AMS//NONSGML v1.0//EN
BEGIN:VEVENT
DTSTAMP:20240212T000000
DTSTART:20240318T000000
DTEND:20240322T000000
SUMMARY:Analysis on fractals and networks, and applications
DESCRIPTION:Analysis on fractals and networks, and applications https://conferences.cirm-math.fr/2950.html
END:VEVENT
END:VCALENDAR
