BEGIN:VCALENDAR
VERSION:2.0
PRODID:-//AMS//NONSGML v1.0//EN
BEGIN:VEVENT
DTSTAMP:20240205T000000
DTSTART:20240129T000000
DTEND:20240202T000000
SUMMARY:AIM Workshop: Analytic, arithmetic, and geometric aspects of automorphic forms
DESCRIPTION:AIM Workshop: Analytic, arithmetic, and geometric aspects of automorphic forms http://aimath.org/workshops/upcoming/aagaautomorphic/
END:VEVENT
END:VCALENDAR
