BEGIN:VCALENDAR
VERSION:2.0
PRODID:-//AMS//NONSGML v1.0//EN
BEGIN:VEVENT
DTSTAMP:20240212T000000
DTSTART:20240319T000000
DTEND:20240322T000000
SUMMARY:Multi-scale methods for reactive flow and transport in complex elastic media, Conference in memory of prof. Andro Mikelic
DESCRIPTION:Multi-scale methods for reactive flow and transport in complex elastic media, Conference in memory of prof. Andro Mikelic https://web.math.pmf.unizg.hr/andromikelic/
END:VEVENT
END:VCALENDAR
