BEGIN:VCALENDAR
VERSION:2.0
PRODID:-//AMS//NONSGML v1.0//EN
BEGIN:VEVENT
DTSTAMP:20240212T000000
DTSTART:20240429T000000
DTEND:20240503T000000
SUMMARY:AIM Workshop: Post-quantum group-based cryptography
DESCRIPTION:AIM Workshop: Post-quantum group-based cryptography http://aimath.org/workshops/upcoming/postquantgroup/
END:VEVENT
END:VCALENDAR
