BEGIN:VCALENDAR
VERSION:2.0
PRODID:-//AMS//NONSGML v1.0//EN
BEGIN:VEVENT
DTSTAMP:20240212T000000
DTSTART:20240418T000000
DTEND:20240420T000000
SUMMARY:SIAM Conference on Data Mining (SDM24)
DESCRIPTION:SIAM Conference on Data Mining (SDM24) http://www.siam.org/conferences/cm/conference/sdm24
END:VEVENT
END:VCALENDAR
