BEGIN:VCALENDAR
VERSION:2.0
PRODID:-//AMS//NONSGML v1.0//EN
BEGIN:VEVENT
DTSTAMP:20240212T000000
DTSTART:20240227T000000
DTEND:20240301T000000
SUMMARY:SIAM Conference on Uncertainty Quantification (UQ24)
DESCRIPTION:SIAM Conference on Uncertainty Quantification (UQ24) http://www.siam.org/conferences/cm/conference/uq24
END:VEVENT
END:VCALENDAR
