BEGIN:VCALENDAR
VERSION:2.0
PRODID:-//AMS//NONSGML v1.0//EN
BEGIN:VEVENT
DTSTAMP:20240212T000000
DTSTART:20240419T000000
DTEND:20240420T000000
SUMMARY:International Summit on Materials Science
DESCRIPTION:International Summit on Materials Science http://materialsscience.averconferences.com/
END:VEVENT
END:VCALENDAR
