BEGIN:VCALENDAR
VERSION:2.0
PRODID:-//AMS//NONSGML v1.0//EN
BEGIN:VEVENT
DTSTAMP:20240212T000000
DTSTART:20240613T000000
DTEND:20240615T000000
SUMMARY:MACOS
DESCRIPTION:MACOS http://macos.unitbv.ro/
END:VEVENT
END:VCALENDAR
