BEGIN:VCALENDAR
VERSION:2.0
PRODID:-//AMS//NONSGML v1.0//EN
BEGIN:VEVENT
DTSTAMP:20240212T000000
DTSTART:20240318T000000
DTEND:20240322T000000
SUMMARY:Motives in Mainz
DESCRIPTION:Motives in Mainz http://sites.google.com/view/motivesinmainz/
END:VEVENT
END:VCALENDAR
