BEGIN:VCALENDAR
VERSION:2.0
PRODID:-//AMS//NONSGML v1.0//EN
BEGIN:VEVENT
DTSTAMP:20240212T000000
DTSTART:20240624T000000
DTEND:20240628T000000
SUMMARY:ICERM Workshop: Queer in Computational and Applied Mathematics
DESCRIPTION:ICERM Workshop: Queer in Computational and Applied Mathematics http://icerm.brown.edu/topical_workshops/tw-24-qcam/
END:VEVENT
END:VCALENDAR
