BEGIN:VCALENDAR
VERSION:2.0
PRODID:-//AMS//NONSGML v1.0//EN
BEGIN:VEVENT
DTSTAMP:20240212T000000
DTSTART:20240617T000000
DTEND:20240621T000000
SUMMARY:AIM Workshop: Symmetry-breaking of optimal shapes
DESCRIPTION:AIM Workshop: Symmetry-breaking of optimal shapes http://aimath.org/workshops/upcoming/symmetrybreaking/
END:VEVENT
END:VCALENDAR
