BEGIN:VCALENDAR
VERSION:2.0
PRODID:-//AMS//NONSGML v1.0//EN
BEGIN:VEVENT
DTSTAMP:20240212T000000
DTSTART:20240708T000000
DTEND:20240712T000000
SUMMARY:AIM Workshop: Scissors congruences, algebraic K-theory and Steinberg modules
DESCRIPTION:AIM Workshop: Scissors congruences, algebraic K-theory and Steinberg modules http://aimath.org/workshops/upcoming/scissorssteinberg/
END:VEVENT
END:VCALENDAR
