BEGIN:VCALENDAR
VERSION:2.0
PRODID:-//AMS//NONSGML v1.0//EN
BEGIN:VEVENT
DTSTAMP:20240212T000000
DTSTART:20240826T000000
DTEND:20240830T000000
SUMMARY:AIM Workshop: PDE methods in complex geometry
DESCRIPTION:AIM Workshop: PDE methods in complex geometry http://aimath.org/workshops/upcoming/pdecomplexgeom/
END:VEVENT
END:VCALENDAR
