BEGIN:VCALENDAR
VERSION:2.0
PRODID:-//AMS//NONSGML v1.0//EN
BEGIN:VEVENT
DTSTAMP:20240212T000000
DTSTART:20240610T000000
DTEND:20240614T000000
SUMMARY:EpiGA Conference 2024
DESCRIPTION:EpiGA Conference 2024 http://epiga.episciences.org/page/2024-epiga-conference-on-algebraic-geometry
END:VEVENT
END:VCALENDAR
