BEGIN:VCALENDAR
VERSION:2.0
PRODID:-//AMS//NONSGML v1.0//EN
BEGIN:VEVENT
DTSTAMP:20240212T000000
DTSTART:20240402T000000
DTEND:20240405T000000
SUMMARY:Modern Aspects of Harmonic Analysis on Lie Groups
DESCRIPTION:Modern Aspects of Harmonic Analysis on Lie Groups http://jaeh.cc/SS2024/index.htm
END:VEVENT
END:VCALENDAR
