BEGIN:VCALENDAR
VERSION:2.0
PRODID:-//AMS//NONSGML v1.0//EN
BEGIN:VEVENT
DTSTAMP:20240212T000000
DTSTART:20240729T000000
DTEND:20240802T000000
SUMMARY:Dynamics Days Europe 2024
DESCRIPTION:Dynamics Days Europe 2024 http://dynamicsdays.eu/bremen2024
END:VEVENT
END:VCALENDAR
