BEGIN:VCALENDAR
VERSION:2.0
PRODID:-//AMS//NONSGML v1.0//EN
BEGIN:VEVENT
DTSTAMP:20240212T000000
DTSTART:20240314T000000
DTEND:20240316T000000
SUMMARY:Spring School on Soliton Dynamics
DESCRIPTION:Spring School on Soliton Dynamics http://sites.google.com/tamu.edu/solitons-spring-school
END:VEVENT
END:VCALENDAR
