BEGIN:VCALENDAR
VERSION:2.0
PRODID:-//AMS//NONSGML v1.0//EN
BEGIN:VEVENT
DTSTAMP:20240212T000000
DTSTART:20240624T000000
DTEND:20240626T000000
SUMMARY:New perspectives in Computational Group Theory
DESCRIPTION:New perspectives in Computational Group Theory http://sites.google.com/view/newperspectivescgt/home
END:VEVENT
END:VCALENDAR
