BEGIN:VCALENDAR
VERSION:2.0
PRODID:-//AMS//NONSGML v1.0//EN
BEGIN:VEVENT
DTSTAMP:20240212T000000
DTSTART:20240812T000000
DTEND:20240816T000000
SUMMARY:IFIP TC7 System Modeling and Optimization
DESCRIPTION:IFIP TC7 System Modeling and Optimization http://www.conferences.uni-hamburg.de/event/301/
END:VEVENT
END:VCALENDAR
