BEGIN:VCALENDAR
VERSION:2.0
PRODID:-//AMS//NONSGML v1.0//EN
BEGIN:VEVENT
DTSTAMP:20240212T000000
DTSTART:20240316T000000
DTEND:20240317T000000
SUMMARY:13th Ohio river Analysis Meeting (ORAM 13)
DESCRIPTION:13th Ohio river Analysis Meeting (ORAM 13) http://sites.google.com/view/oram-13/home
END:VEVENT
END:VCALENDAR
