BEGIN:VCALENDAR
VERSION:2.0
PRODID:-//AMS//NONSGML v1.0//EN
BEGIN:VEVENT
DTSTAMP:20240212T000000
DTSTART:20240826T000000
DTEND:20240828T000000
SUMMARY:Third International Conference on Enumerative Combinatorics and Applications (ICECA 2024)
DESCRIPTION:Third International Conference on Enumerative Combinatorics and Applications (ICECA 2024) http://ecajournal.haifa.ac.il/Conference/ICECA2024.html
END:VEVENT
END:VCALENDAR
