BEGIN:VCALENDAR
VERSION:2.0
PRODID:-//AMS//NONSGML v1.0//EN
BEGIN:VEVENT
DTSTAMP:20240212T000000
DTSTART:20240603T000000
DTEND:20240614T000000
SUMMARY:S&#233;minaire de Math&#233;matiques Sup&#233;rieures 2024: "Flows and Variational Methods in Riemannian and Complex Geometry: Classical and Modern Methods (Montr&#233;al, Canada)"
DESCRIPTION:S&#233;minaire de Math&#233;matiques Sup&#233;rieures 2024: "Flows and Variational Methods in Riemannian and Complex Geometry: Classical and Modern Methods (Montr&#233;al, Canada)" http://www.slmath.org/summer-schools/1061
END:VEVENT
END:VCALENDAR
