BEGIN:VCALENDAR
VERSION:2.0
PRODID:-//AMS//NONSGML v1.0//EN
BEGIN:VEVENT
DTSTAMP:20240212T000000
DTSTART:20240715T000000
DTEND:20240719T000000
SUMMARY:Workshop on Hamiltonian geometry and quantization
DESCRIPTION:Workshop on Hamiltonian geometry and quantization http://www.fields.utoronto.ca/activities/24-25/Hamiltonian-Geometry
END:VEVENT
END:VCALENDAR
