BEGIN:VCALENDAR
VERSION:2.0
PRODID:-//AMS//NONSGML v1.0//EN
BEGIN:VEVENT
DTSTAMP:20240212T000000
DTSTART:20240812T000000
DTEND:20240816T000000
SUMMARY:International Workshop on Operator Theory and its Applications (IWOTA)
DESCRIPTION:International Workshop on Operator Theory and its Applications (IWOTA) http://blogs.kent.ac.uk/iwota2024
END:VEVENT
END:VCALENDAR
